BEGIN:VCALENDAR
VERSION:2.0
PRODID:-//wp-events-plugin.com//7.2.3.1//EN
BEGIN:VEVENT
UID:33@theatre-entresort.com
DTSTART:20240607T210000Z
DTEND:20240607T223000Z
DTSTAMP:20240515T210139Z
URL:https://theatre-entresort.com/programmation/rencontre-dimprovisation-t
 heatrale-de-la-brigade-du-bonheur/
SUMMARY:Rencontre d'improvisation théâtrale de La Brigade du bonheur
DESCRIPTION:C'est déjà la fin de la saison d'improvisation de La Brigade 
 du Bonheur au théâtre de l'Entresort et pour fêter ça\, le super group
 e des Découvrants vous font leur show\, vendredi 7 juin à 21h (les porte
 s ouvrent à 20h). Ça sera sous forme de "match d'improvisation" entre eu
 x. Il y aura l'arbitre pour départager tout cela de façon équitable\, l
 e public pourra participer en votant pour l'improvisation qu'il a le plus 
 apprécié et bien sûr il y aura du rire et de la bonne humeur GARANTIE !
 \n\nRéservez vos places au 06 87 24 67 86
ATTACH;FMTTYPE=image/jpeg:https://theatre-entresort.com/wp-content/uploads
 /2024/05/juin-2024.jpg
CATEGORIES:Saison 2023 - 2024
LOCATION:Théatre L'Entresort\, 26 quai de Lorraine\, Narbonne\, 11100\, Fr
 ance
X-APPLE-STRUCTURED-LOCATION;VALUE=URI;X-ADDRESS=26 quai de Lorraine\, Narbo
 nne\, 11100\, France;X-APPLE-RADIUS=100;X-TITLE=Théatre L'Entresort:geo:0
 ,0
END:VEVENT
END:VCALENDAR