BEGIN:VCALENDAR
VERSION:2.0
PRODID:-//wp-events-plugin.com//7.2.3.1//EN
BEGIN:VEVENT
UID:93@theatre-entresort.com
DTSTART:20260324T000000Z
DTEND:20260326T000000Z
DTSTAMP:20260210T150333Z
URL:https://theatre-entresort.com/programmation/mme-pan-et-ses-troglodytes
 -de-et-avec-mireille-huchon/
SUMMARY: « Mme Pan et ses Troglodytes » de et avec Mireille Huchon
DESCRIPTION: « Mme Pan et ses Troglodytes »\nC’est la rentrée des cla
 sses. Madame Pan s’apprête à enseigner à ses élèves de CM2 tout ce 
 qu’il faut savoir en biologie pour passer en classe de sixième. Sévèr
 e\, parfois choquante\, elle confère avec humour sur l’origine de l’h
 omme\, son évolution et sa juste place dans la nature.\nCe dialogue à se
 ns unique met le public à la place des élèves qui vont subir entre deux
  sonneries le comportement délicieusement féroce de leur maîtresse\, en
  échange d’une leçon de biologie pleine de rire\, d’émotion et de v
 érité.\nCette conférence gesticulée et burlesque a pour but de redonne
 r ses lettres de noblesse au règne animal\, et en particulier à l’ordr
 e des primates dont certaines espèces\, comme l’Homo sapiens\, seraient
  en voie de disparition… ???\n\n&nbsp\;
ATTACH;FMTTYPE=image/jpeg:https://theatre-entresort.com/wp-content/uploads
 /2024/12/Mme-Pan-affiche-vierge.jpg
CATEGORIES:En tournée
LOCATION:Lycée Raymond Cortat\, Aurillac\, 15\, France
X-APPLE-STRUCTURED-LOCATION;VALUE=URI;X-ADDRESS=Aurillac\, 15\, France;X-AP
 PLE-RADIUS=100;X-TITLE=Lycée Raymond Cortat:geo:0,0
END:VEVENT
END:VCALENDAR