BEGIN:VCALENDAR
VERSION:2.0
PRODID:-//wp-events-plugin.com//7.2.3.1//EN
BEGIN:VEVENT
UID:78@theatre-entresort.com
DTSTART:20251205T210000Z
DTEND:20251205T223000Z
DTSTAMP:20251124T194403Z
URL:https://theatre-entresort.com/programmation/match-dimprovisation-la-br
 igade-du-bonheur-invite-la-brique-de-toulouse/
SUMMARY:Match d'improvisation la Brigade du Bonheur invite la Brique de Tou
 louse
DESCRIPTION:Match d'improvisation la Brigade du Bonheur invite la Brique de
  Toulouse\nLà c'est cadeau\, le père Noël est passé avant l'heure et v
 ous a déposé une invitation à venir profiter d'un super match d'improvi
 sation avec La Brigade du Bonheur qui invite La Brique de Toulouse avec la
 quelle elle a  joué au tout début de la Brigade.\n\nAlors vous voulez p
 rofiter de ces retrouvailles mémorables et voir un match de qualité avec
  des équipes\, un arbitre et un maître de cérémonie\n\nPensez à rése
 rver pour être sûrs d'assister à ce grand moment !\n\nRESERVATION 06 87
  24 67 86\n\nEntrée 10 €\n\nOuverture des portes à 20 h
ATTACH;FMTTYPE=image/jpeg:https://theatre-entresort.com/wp-content/uploads
 /2025/07/2.png
CATEGORIES:Saison 2025 - 2026
LOCATION:Théatre L'Entresort\, 26 quai de Lorraine\, Narbonne\, 11100\, Fr
 ance
X-APPLE-STRUCTURED-LOCATION;VALUE=URI;X-ADDRESS=26 quai de Lorraine\, Narbo
 nne\, 11100\, France;X-APPLE-RADIUS=100;X-TITLE=Théatre L'Entresort:geo:0
 ,0
END:VEVENT
END:VCALENDAR