BEGIN:VCALENDAR
VERSION:2.0
PRODID:-//wp-events-plugin.com//7.2.3.1//EN
BEGIN:VEVENT
UID:38@theatre-entresort.com
DTSTART:20240704T210000Z
DTEND:20240704T223000Z
DTSTAMP:20240617T172700Z
URL:https://theatre-entresort.com/programmation/mario-laborde-and-friends-
 coeur-de-guitare-2/
SUMMARY:Mario Laborde and friends "Cœur de guitare"
DESCRIPTION:Mario Laborde and Friends "Cœur de guitare"\n\n"Guitariste com
 positeur aux croisements blues Jazz depuis longtemps affirmés\, Mario Lab
 orde nous propose un voyage et un jeu authentique basé sur l'improvisatio
 n"\nMario Laborde / guitariste\, compositeur\n\nIssus d'une famille de com
 édiens\, j'ai grandi dans un théâtre. Attiré par les rock des années 
 60\, je découvre la guitare et fais mes premières prestations dès l'âg
 e de 16 ans. Au travers d'inaugurations\, vernissages\, premières parties
 \, événements artistiques et culturels dans le sud de la France\, je dé
 veloppe un style multiple basé sur l'improvisation. Je partage aujourd'hu
 i mon projet Blues and Jazz avec différentes scènes artistiques afin de 
 promouvoir mon premier album que je suis en train de réaliser : "Cœur de
  Guitare".\n\n"Une grande personnalité et un style authentique aux rythmi
 ques Blues et aux sonorités mélodiques Jazz. Le tout s'enrichit d'inspir
 ations acoustiques swing\, funk\, accompagnées parfois d'une touche d'él
 ectronique… Un style vraiment authentique. On en redemande !" (L.O\, L'I
 ndépendant\, 2023)\n\n* 2024 : enregistrement et production de l'album "
 Cœur de Guitare"\n\n* 2023 : concert au théâtre de l'Entresort / Narbo
 nne\, concert inauguration chez Global Audio Store / Toulouse\n\n* 2022 :
  Tournée Sud de France avec Ella De Loria\n\n* 2021 : concerts solo\, Su
 d de France\, bars et salles de spectacle\, Formation du groupe "Meet the 
 Bridge" avec plusieurs artistes sur un projet Rock / Hip hop\, 1ere partie
  de "Mogador" de Paul Goillot / Toulouse\n\n* 2020 : organisation de Jam 
 Sessions à Toulouse\, spectacle musical "Opéra de Bacchus" sur le Narbon
 nais\n\n* 2019 : Scènes d'improvisations avec des comédiens\, Vernissag
 e en galerie d'art / Narbonne\nTarif : 15 €\nréservation : 04 68 75 02 
 73\n\nhttp://soundcloud.com/mario-laborde\nhttp://facebook.com/mario.labor
 de\nhttp://instagram.com/m_phenomenologie\n&nbsp\;
ATTACH;FMTTYPE=image/jpeg:https://theatre-entresort.com/wp-content/uploads
 /2024/06/Mario-Laborde.jpg
CATEGORIES:Saison 2023 - 2024
LOCATION:Théatre L'Entresort\, 26 quai de Lorraine\, Narbonne\, 11100\, Fr
 ance
X-APPLE-STRUCTURED-LOCATION;VALUE=URI;X-ADDRESS=26 quai de Lorraine\, Narbo
 nne\, 11100\, France;X-APPLE-RADIUS=100;X-TITLE=Théatre L'Entresort:geo:0
 ,0
END:VEVENT
END:VCALENDAR