BEGIN:VCALENDAR
VERSION:2.0
PRODID:-//wp-events-plugin.com//7.2.3.1//EN
BEGIN:VEVENT
UID:35@theatre-entresort.com
DTSTART:20240629T210000Z
DTEND:20240629T223000Z
DTSTAMP:20240516T150837Z
URL:https://theatre-entresort.com/programmation/les-ateliers-theatre-du-th
 eatre-de-lentresort-presentent-la-machine-2/
SUMMARY:LES ATELIERS THÉÂTRE  DE L'ENTRESORT  présentent LA MACHINE
DESCRIPTION:LES ATELIERS THÉÂTRE DU THÉÂTRE DE L'ENTRESORT\n\nprésente
 nt LA MACHINE\n\nNeuf apprentis comédiens adultes et consentants\, qui on
 t suivi l'atelier de formation d'acteurs de l'Entresort\, vous présentent
  le résultat de leur travail : LA MACHINE\, un spectacle satirique et ent
 housiaste sur le thème de notre époustouflante dépendance au monde des 
 machines informatiques. Téléphones portables\, internet\, réseaux socia
 ux\, applications inefficaces\, gestion administrative informatisée\, tou
 t y passe\, et pour notre plus grand plaisir ! Créé à partir de textes 
 d'auteurs contemporains\, mais aussi à partir d'improvisations\, ce spect
 acle propose de s'affranchir enfin\, et gaiement\, de ce carcan étouffant
  qu'est devenu\, au quotidien\, l'utilisation du système informatique.\n\
 nL'atelier est dirigé par Bernard Laborde\, qui signe également la mise 
 en scène.\n\nentrée : 5 €\n\nrenseignements / réservations : 04 68 
 75 02 73\n\n&nbsp\;\n\n&nbsp\;
ATTACH;FMTTYPE=image/jpeg:https://theatre-entresort.com/wp-content/uploads
 /2024/05/affiche-LA-MACHINE-scaled.jpg
CATEGORIES:Saison 2023 - 2024
LOCATION:Théatre L'Entresort\, 26 quai de Lorraine\, Narbonne\, 11100\, Fr
 ance
X-APPLE-STRUCTURED-LOCATION;VALUE=URI;X-ADDRESS=26 quai de Lorraine\, Narbo
 nne\, 11100\, France;X-APPLE-RADIUS=100;X-TITLE=Théatre L'Entresort:geo:0
 ,0
END:VEVENT
END:VCALENDAR