BEGIN:VCALENDAR
VERSION:2.0
PRODID:-//wp-events-plugin.com//7.2.3.1//EN
BEGIN:VEVENT
UID:31@theatre-entresort.com
DTSTART:20240505T170000Z
DTEND:20240505T183000Z
DTSTAMP:20240401T160800Z
URL:https://theatre-entresort.com/programmation/la-terre-est-a-nous-2/
SUMMARY:La Terre est à nous !
DESCRIPTION:LA TERRE EST A NOUS !\n\n2000 M3\, Keuf keuf keuf\, En joue\n\
 nde Léa Gary\n\nTrois textes\, fraîchement écrits\, qui nous mettent di
 rectement au contact du mental sous tension\, du physique noué\, du grad
 é de gendarmerie qui a du mal à gérer une manif\, de la "migrante" qui 
 tente de passer la frontière\, du maire qui jouit de son projet bétonneu
 r immobilier… Le hasard\, ou plutôt la fatalité issue du chaos ambiant
 \, met à chaque fois deux personnages dans une relation sensitive\, émot
 ionnelle\, un acte dont la description est restituée comme dans l'instant
 \, sur la page\, comme un présent suspendu.\n\nC'est balancé d’un trai
 t\, paragraphe unique\, haletant\, sans aucun passage à la ligne. Nous pl
 ongeons directement dans la tête et le corps engagés dans l’action\, c
 'est bouleversant et vertigineux à la fois.\n\nAlors\, sur scène\, 2 lec
 teurs\, un musicien et une scénographie\, pour construire une action coll
 ective\, sensible\, artistique et donner de la vie à l'écriture de Léa 
 Gary\, pour que tout le monde puisse entendre et\, comme dit l'auteur\, «
  pour que ça devienne banal\, tellement banal que n’importe qui osera 
 enrayer la planche à billets ».\n\nFurtive le jour\, subreptice la nuit
 \, Léa Gary écrit surtout le matin en écoutant du gros son. Elle vit da
 ns le sud\, à Montpellier\, et c'est dans l'Empaillé\, le média indépe
 ndant du sud\, que j'ai découvert ses textes.\n\nLéa Gary écrit avec un
 e intelligence organique et s'empare de la psychologie de ses personnages 
 avec attention et générosité. Face aux clichés médiatiques qui disqua
 lifient les actions militantes\, elle nous restitue la généreuse spontan
 éité de celles et ceux qui désirent tout à la fois bousculer l'ordre s
 ocial et constituer des collectifs audacieux\, et qui gardent l'enthousias
 me tenace de la révolte contre les injustices et ceux qui les provoquent.
 \n\nC'est le retour contemporain des utopies anarchistes\, des fictions an
 crées dans l’expérience des luttes contemporaines. Cette écriture tra
 vaille à quelque chose de stratégique : l’irremplaçable joie\, le so
 ulèvement émotionnel\, l’ébullition corporelle\, sans lesquels il n
 ’y a pas d’action politique véritablement réussie.\n\nComme je le di
 sais\, c'est bouleversant et vertigineux à la fois.\n\nEt ça donne la p
 êche !!!\n\nOuverture des portes à 20 h\, entrée 15 €\, réservation
 s 04 68 75 02 73\n\n[caption id="attachment_6896" align="alignnone" width=
 "300"] Wining\, victory\, and life goals concept.[/caption]\n\n&nbsp\;\n\n
 &nbsp\;
ATTACH;FMTTYPE=image/jpeg:https://theatre-entresort.com/wp-content/uploads
 /2024/04/AFFICHE-la-terre-est-a-nous-scaled.jpg
CATEGORIES:Saison 2023 - 2024
LOCATION:Théatre L'Entresort\, 26 quai de Lorraine\, Narbonne\, 11100\, Fr
 ance
X-APPLE-STRUCTURED-LOCATION;VALUE=URI;X-ADDRESS=26 quai de Lorraine\, Narbo
 nne\, 11100\, France;X-APPLE-RADIUS=100;X-TITLE=Théatre L'Entresort:geo:0
 ,0
END:VEVENT
END:VCALENDAR