BEGIN:VCALENDAR
VERSION:2.0
PRODID:-//wp-events-plugin.com//7.2.3.1//EN
BEGIN:VEVENT
UID:42@theatre-entresort.com
DTSTART:20241214T210000Z
DTEND:20241214T223000Z
DTSTAMP:20241111T113904Z
URL:https://theatre-entresort.com/programmation/impro-show-la-brigade-du-b
 onheur-recoit/
SUMMARY:Impro show la Brigade du Bonheur reçoit Le FBI de Béziers
DESCRIPTION:MATCH D'IMPRO\n\n La Brigade du Bonheur\, troupe d'improvisati
 on théâtrale de Narbonne rencontre le F.B.I. de Béziers. Vous public vo
 us aurez la chance de participer à ce match en votant pour les improvisat
 ions que vous aurez le plus aimées. Ils ont 30 secondes pour créer une h
 istoire avec des personnages qu'ils joueront ensuite devant vos yeux ébah
 is. Alors pensez à réserver vos places\, car elles sont prisées et limi
 tées.\n\n RÉSERVATION 06 87 24 67 86 Entrée 10 €\n\n
ATTACH;FMTTYPE=image/jpeg:https://theatre-entresort.com/wp-content/uploads
 /2024/07/1.png
CATEGORIES:Saison 2024 -2025
LOCATION:Théatre L'Entresort\, 26 quai de Lorraine\, Narbonne\, 11100\, Fr
 ance
X-APPLE-STRUCTURED-LOCATION;VALUE=URI;X-ADDRESS=26 quai de Lorraine\, Narbo
 nne\, 11100\, France;X-APPLE-RADIUS=100;X-TITLE=Théatre L'Entresort:geo:0
 ,0
END:VEVENT
END:VCALENDAR