BEGIN:VCALENDAR
VERSION:2.0
PRODID:-//wp-events-plugin.com//7.2.3.1//EN
BEGIN:VEVENT
UID:40@theatre-entresort.com
DTSTART:20241004T210000Z
DTEND:20241004T223000Z
DTSTAMP:20241001T080752Z
URL:https://theatre-entresort.com/programmation/impro-show-avec-la-brigade
 -du-bonheur/
SUMMARY:Impro Show avec la Brigade du bonheur
DESCRIPTION:IMPRO SHOW \n\nLa Brigade du Bonheur\, troupe d'improvisation t
 héâtrale de Narbonne\, ouvre sa saison 2024-2025 avec un Cabaret d'impro
 visation rempli de bonne humeur !\n Les improvisateurs aguerris de cette t
 roupe mythique de l'Aude vont vous dérouiller les zygomatiques avec leurs
  histoires totalement improvisées à vous en faire perdre vos nouilles !
  \n"Ceci n'est pas un resto mais un spectacle d'improvisation théâtrale
 " vous promet de vous faire passer un bon moment. Alors pensez à réserve
 r vos places\, car elles partent comme un sachet de nouilles ramen! \n\nR
 ÉSERVATION 06 87 24 67 86 Entrée 10 €\n\n\n
ATTACH;FMTTYPE=image/jpeg:https://theatre-entresort.com/wp-content/uploads
 /2024/07/Octobre-2024.png
CATEGORIES:Saison 2024 -2025
LOCATION:Théatre L'Entresort\, 26 quai de Lorraine\, Narbonne\, 11100\, Fr
 ance
X-APPLE-STRUCTURED-LOCATION;VALUE=URI;X-ADDRESS=26 quai de Lorraine\, Narbo
 nne\, 11100\, France;X-APPLE-RADIUS=100;X-TITLE=Théatre L'Entresort:geo:0
 ,0
END:VEVENT
END:VCALENDAR