BEGIN:VCALENDAR
VERSION:2.0
PRODID:-//wp-events-plugin.com//7.2.3.1//EN
BEGIN:VEVENT
UID:25@theatre-entresort.com
DTSTART:20240313T203000Z
DTEND:20240313T220000Z
DTSTAMP:20240226T204930Z
URL:https://theatre-entresort.com/programmation/festival-de-films-feminist
 es-en-feu-les-guerrieres-de-la-paix/
SUMMARY:Festival de films féministes en feu "Les guerrières de la paix"
DESCRIPTION:Le théâtre de l'Entresort partenaire du festival de films fé
 ministes en feu présente "les guerrières de la paix"\n\n          
                           
ATTACH;FMTTYPE=image/jpeg:https://theatre-entresort.com/wp-content/uploads
 /2024/02/festival-films-feministes-en-feu_JPG_V8-3.jpg
CATEGORIES:Saison 2023 - 2024
LOCATION:Théatre L'Entresort\, 26 quai de Lorraine\, Narbonne\, 11100\, Fr
 ance
X-APPLE-STRUCTURED-LOCATION;VALUE=URI;X-ADDRESS=26 quai de Lorraine\, Narbo
 nne\, 11100\, France;X-APPLE-RADIUS=100;X-TITLE=Théatre L'Entresort:geo:0
 ,0
END:VEVENT
END:VCALENDAR