BEGIN:VCALENDAR
VERSION:2.0
PRODID:-//wp-events-plugin.com//7.2.3.1//EN
BEGIN:VEVENT
UID:95@theatre-entresort.com
DTSTART:20260409T000000Z
DTEND:20260412T000000Z
DTSTAMP:20260309T151333Z
URL:https://theatre-entresort.com/programmation/festival-animals/
SUMMARY:Festival "Animals" 4 soirs\, 4 spectacles sur les aventures des ani
 maux humains et non humains
DESCRIPTION:Festival "Animals"  : 4 soirs\, 4 spectacles sur les aventures
  des animaux humains et non humains\n"Nés du même règne\, nous sommes t
 ous reliés. mettre l'homme au centre du vivant créé inévitablement un 
 dysfonctionnement moral et écologique." Par le théâtre et le divertisse
 ment \, le Théâtre de l'Entresort et Mireille Huchon proposent de partag
 er plusieurs rendez-vous aux univers animaliers\, pour sensibiliser sur l'
 importance de la relation entre les animaux et les humains.\n\nCe festival
  donnera lieu aussi à des bords de scène avec les artistes etdes rencont
 res après la représentation..\n\nRéservation :  04 68 75 02 73\n\nEntr
 ée 17 € plein tarif\, 15 € tarif réduit\, 12 € pass 4 spectacles d
 u festival\n\nVoir détail spectacle par spectacle
ATTACH;FMTTYPE=image/jpeg:https://theatre-entresort.com/wp-content/uploads
 /2026/03/afiche-rojo-animals-2_page-0001.jpg
CATEGORIES:Saison 2025 - 2026
LOCATION:Théatre L'Entresort\, 26 quai de Lorraine\, Narbonne\, 11100\, Fr
 ance
X-APPLE-STRUCTURED-LOCATION;VALUE=URI;X-ADDRESS=26 quai de Lorraine\, Narbo
 nne\, 11100\, France;X-APPLE-RADIUS=100;X-TITLE=Théatre L'Entresort:geo:0
 ,0
END:VEVENT
END:VCALENDAR